BEGIN:VCALENDAR
VERSION:2.0
PRODID:-//Fitness Factory - ECPv4.9.6//NONSGML v1.0//EN
CALSCALE:GREGORIAN
METHOD:PUBLISH
X-WR-CALNAME:Fitness Factory
X-ORIGINAL-URL:https://stlfitnessfactory.com
X-WR-CALDESC:Events for Fitness Factory
BEGIN:VTIMEZONE
TZID:"UTC"
BEGIN:STANDARD
TZOFFSETFROM:+0000
TZOFFSETTO:+0000
TZNAME:UTC
DTSTART:20170101T000000
END:STANDARD
END:VTIMEZONE
BEGIN:VEVENT
DTSTART;TZID="UTC":20170705T063000
DTEND;TZID="UTC":20170705T071500
DTSTAMP:20260421T165851
CREATED:20170601T132757Z
LAST-MODIFIED:20170620T165609Z
UID:3257-1499236200-1499238900@stlfitnessfactory.com
SUMMARY:Bootcamp-Wednesday
DESCRIPTION:Trainer: Various \nA 30-45 minute high intensity conditioning class designed to increase speed\, strength and endurance. This class is taught outdoors\, weather depending. \n
URL:https://stlfitnessfactory.com/classes/bootcamp-wednesday-3/
LOCATION:Fitness Factory\,  1220 St. Charles St.\, St. Louis\, St. Louis\, MO\, 63103\, United States
CATEGORIES:Free Classes for Members
ATTACH;FMTTYPE=image/jpeg:https://stlfitnessfactory.com/wp-content/uploads/2017/06/Fitness-Factory-Bootcamp.jpg
END:VEVENT
BEGIN:VEVENT
DTSTART;TZID="UTC":20170705T120000
DTEND;TZID="UTC":20170705T124500
DTSTAMP:20260421T165851
CREATED:20170601T133058Z
LAST-MODIFIED:20170620T165548Z
UID:3259-1499256000-1499258700@stlfitnessfactory.com
SUMMARY:Power Yoga
DESCRIPTION:Trainer: Brighton \n45 minute fitness class for building strength and endurance. Power yoga is an energetic form of yoga with fluid movements that detoxifies and energizes. \n
URL:https://stlfitnessfactory.com/classes/power-yoga-2-2/
LOCATION:Fitness Factory\,  1220 St. Charles St.\, St. Louis\, St. Louis\, MO\, 63103\, United States
CATEGORIES:Free Classes for Members
ATTACH;FMTTYPE=image/jpeg:https://stlfitnessfactory.com/wp-content/uploads/2017/05/Fitness-Factory-Power-Yoga.jpg
END:VEVENT
BEGIN:VEVENT
DTSTART;TZID="UTC":20170705T170000
DTEND;TZID="UTC":20170705T174500
DTSTAMP:20260421T165851
CREATED:20170531T222000Z
LAST-MODIFIED:20170620T165520Z
UID:3261-1499274000-1499276700@stlfitnessfactory.com
SUMMARY:Hip-Hop Cycling
DESCRIPTION:Trainer: PeChaz \nGet ready to ride for 45 minutes to some of the latest hip hop tunes with this fun stationary ride! It’s not your traditional spin class! It’s time to get fit with drills to make you sweat. \n
URL:https://stlfitnessfactory.com/classes/hip-hop-cycling-2-2/
LOCATION:Fitness Factory\,  1220 St. Charles St.\, St. Louis\, St. Louis\, MO\, 63103\, United States
CATEGORIES:Free Classes for Members
ATTACH;FMTTYPE=image/jpeg:https://stlfitnessfactory.com/wp-content/uploads/2017/05/Fitness-Factory-Hip-Hop-Cycling.jpg
END:VEVENT
BEGIN:VEVENT
DTSTART;TZID="UTC":20170705T190000
DTEND;TZID="UTC":20170705T193000
DTSTAMP:20260421T165851
CREATED:20170602T145520Z
LAST-MODIFIED:20170707T185742Z
UID:3262-1499281200-1499283000@stlfitnessfactory.com
SUMMARY:*Afterburn Training Program
DESCRIPTION:Trainer: Certified Personal Trainers \nBurn calories long after your workout is over! \nAfterBurn is a small group training program designed to get you in great shape\, FAST! It’s a 30 minute\, high-intensity anaerobic workout that speeds up your metabolism\, spares lean muscle and torches body fat by putting your body into fat-burning mode long after your workout has ended. All fitness levels are encouraged to join! \nClasses are held inside the gym to utilize the equipment and space (not in a classroom) and our Certified Personal Trainers teach the classes. \nThis training program is only $119/month! That’s 16 monthly training classes that you can attend each month! \n
URL:https://stlfitnessfactory.com/classes/afterburn-training-class-2-3-2/
LOCATION:Fitness Factory\,  1220 St. Charles St.\, St. Louis\, St. Louis\, MO\, 63103\, United States
CATEGORIES:Afterburn Training Classes
ATTACH;FMTTYPE=image/jpeg:https://stlfitnessfactory.com/wp-content/uploads/2017/05/Fitness-Factory-Afterburn.jpg
END:VEVENT
END:VCALENDAR